BEGIN:VCALENDAR
VERSION:2.0
METHOD:PUBLISH
PRODID:-//Accessible Web Design//My Calendar//http://www.joedolson.com//v//EN';
BEGIN:VEVENT
UID:489-10
LOCATION:
SUMMARY:Holy Communion
DTSTAMP:20221218T080000
ORGANIZER;CN=alexD:MAILTO:dev-email@flywheel.local
DTSTART:20221218T080000
DTEND:20221218T090000
CATEGORIES:CHURCH SERVICE, General
URL;VALUE=URI:https://sonningparish.org.uk/mc-events/holy-communion/?mc_id=489
DESCRIPTION:
END:VEVENT
END:VCALENDAR