BEGIN:VCALENDAR
VERSION:2.0
METHOD:PUBLISH
PRODID:-//Accessible Web Design//My Calendar//http://www.joedolson.com//v//EN';
BEGIN:VEVENT
UID:3057-40
LOCATION:
SUMMARY:Sunday at Six
DTSTAMP:20260426T180000
ORGANIZER;CN=Admin:MAILTO:office@sonningparish.org.uk
DTSTART:20260426T180000
DTEND:20260426T193000
CATEGORIES:CHURCH SERVICE, General
URL;VALUE=URI:https://sonningparish.org.uk/mc-events/sunday-at-six/?mc_id=3057
DESCRIPTION:
END:VEVENT
END:VCALENDAR